BEGIN:VCALENDAR
VERSION:2.0
PRODID:-//Burwood Uniting Canterbury Cricket Club - ECPv4.2//NONSGML v1.0//EN
CALSCALE:GREGORIAN
METHOD:PUBLISH
X-WR-CALNAME:Burwood Uniting Canterbury Cricket Club
X-ORIGINAL-URL:http://burwoodbulls.org.au
X-WR-CALDESC:Events for Burwood Uniting Canterbury Cricket Club
BEGIN:VEVENT
DTSTART;TZID=UTC+10.5:20160915T053000
DTEND;TZID=UTC+10.5:20160915T063000
DTSTAMP:20210225T020212
CREATED:20160616T000711
LAST-MODIFIED:20160616T000711
UID:102-1473917400-1473921000@burwoodbulls.org.au
SUMMARY:Pre Season Training - Tails Never Fails
DESCRIPTION:New season\, new coach. Come down to Tails Never Fails for training. 3 nets available from 7 till 8.
URL:http://burwoodbulls.org.au/event/pre-season-training-tails-never-fails-4/
LOCATION:1517 Dandenong Rd\, Oakleigh\, Victoria\, 3166\, Australia
CATEGORIES:Training
END:VEVENT
END:VCALENDAR