BEGIN:VCALENDAR
VERSION:2.0
PRODID:-//Burwood Uniting Canterbury Cricket Club - ECPv4.2//NONSGML v1.0//EN
CALSCALE:GREGORIAN
METHOD:PUBLISH
X-WR-CALNAME:Burwood Uniting Canterbury Cricket Club
X-ORIGINAL-URL:http://burwoodbulls.org.au
X-WR-CALDESC:Events for Burwood Uniting Canterbury Cricket Club
BEGIN:VEVENT
DTSTART;TZID=UTC+10.5:20181118T053000
DTEND;TZID=UTC+10.5:20181118T073000
DTSTAMP:20210225T020235
CREATED:20181009T011844
LAST-MODIFIED:20181010T005031
UID:307-1542519000-1542526200@burwoodbulls.org.au
SUMMARY:Trivia Night
DESCRIPTION:BUCCC Trivia is back again.\nMaster of Ceremonies Andrew Bailey\nCome along and enjoy a great night of Trivia to determine who is BUCCC’s Trivia Champions.\n\n10 Tables with 8 people per table…Book an entire table or be allocated on a table.\n\nBYO Nibbles and Snacks – Drinks at Bar Prices\nOn Saturday 17 November 2018 at 7:00pm\n\nTickets available from\nhttps://www.trybooking.com/435145
URL:http://burwoodbulls.org.au/event/trivia-night/
LOCATION:Lynden Park \, Camberwell\, Victoria\, 3124\, Australia
ATTACH;FMTTYPE=image/jpeg:http://burwoodbulls.org.au/2016/wp-content/uploads/2018/10/Trivia-Night.jpg
END:VEVENT
END:VCALENDAR